BEGIN:VCALENDAR
PRODID:-//github.com/rianjs/ical.net//NONSGML ical.net 4.0//EN
VERSION:2.0
BEGIN:VEVENT
DESCRIPTION:Monatlicher Stammtisch von interessierten Radlerinnen und Radl
 ern. Jeweils am letzten Dienstag im \nMonat\nhttps://touren-termine.adfc.
 de/radveranstaltung/143744-radlertreff-des-adfc-hamburg
DTEND:20241126T220000Z
DTSTAMP:20260421T025805Z
DTSTART:20241126T180000Z
LOCATION:Gasthaus Quartier 21\, Fuhlsbüttler Straße 405\, 22309 Hamburg
SEQUENCE:0
SUMMARY:Radlertreff des ADFC Hamburg
UID:be1718ec-ad33-4a93-9119-84eb88320999
URL:https://touren-termine.adfc.de/radveranstaltung/143744-radlertreff-des
 -adfc-hamburg
END:VEVENT
END:VCALENDAR
