BEGIN:VCALENDAR
PRODID:-//github.com/rianjs/ical.net//NONSGML ical.net 4.0//EN
VERSION:2.0
BEGIN:VEVENT
DESCRIPTION:Auf alten Bahntrassen zum Gelände des ehemaligen Bochumer Werk
  I der Adam Opel GmbH in Bochum-Laer.\nhttps://touren-termine.adfc.de/rad
 veranstaltung/190853-springorum-opel-und-mark51deg7
DTEND:20260614T150000Z
DTSTAMP:20260421T190540Z
DTSTART:20260614T080000Z
LOCATION:Parkplatz Holschentor\, Talstraße 8\, 45525 Hattingen
SEQUENCE:0
SUMMARY:Springorum\, Opel und Mark51°7
UID:ce4c8481-9f9a-4e3a-b4a8-ea3e26b42d88
URL:https://touren-termine.adfc.de/radveranstaltung/190853-springorum-opel
 -und-mark51deg7
END:VEVENT
END:VCALENDAR
