BEGIN:VCALENDAR
PRODID:-//github.com/rianjs/ical.net//NONSGML ical.net 4.0//EN
VERSION:2.0
BEGIN:VEVENT
DESCRIPTION:Die Tour führt entsprechend der App von Schatz zu Schatz rund 
 um Wedel. Vielleicht finden wir sieben auf einen Streich. Nähere Instrukt
 ionen nach der Anmeldung.\nAnmeldung erforderlich.\nhttps://touren-termin
 e.adfc.de/radveranstaltung/110955-geocaching-per-rad-fur-anfanger
DTEND:20240505T143000Z
DTSTAMP:20260419T181924Z
DTSTART:20240505T113000Z
LOCATION:S-Bahnhof Wedel\, 22880 Wedel
SEQUENCE:0
SUMMARY:Geocaching per Rad für Anfänger
UID:de2dd119-2e91-4a5b-9021-4ae48403bb25
URL:https://touren-termine.adfc.de/radveranstaltung/110955-geocaching-per-
 rad-fur-anfanger
END:VEVENT
END:VCALENDAR
