BEGIN:VCALENDAR
PRODID:-//github.com/rianjs/ical.net//NONSGML ical.net 4.0//EN
VERSION:2.0
BEGIN:VEVENT
DESCRIPTION:Von Oranienburg auf Schleichwegen in den Norden Berlins zum Bü
 rgerpark nach Pankow und wieder zurück.\nhttps://touren-termine.adfc.de/r
 adveranstaltung/103290-bolletour
DTEND:20230910T150000Z
DTSTAMP:20260425T231750Z
DTSTART:20230910T083000Z
LOCATION:Schloßplatz\, 16515 Oranienburg
SEQUENCE:0
SUMMARY:Bolletour
UID:4e724a7e-2efe-4f71-8058-199e2ab7d196
URL:https://touren-termine.adfc.de/radveranstaltung/103290-bolletour
END:VEVENT
END:VCALENDAR
