BEGIN:VCALENDAR
PRODID:-//github.com/rianjs/ical.net//NONSGML ical.net 4.0//EN
VERSION:2.0
BEGIN:VEVENT
DESCRIPTION:Wer Kunst und Kultur gern mit Bewegung verbindet\, kann an bei
 den „Tagen der offenen Türen“ an geführten Radtouren teilnehmen\, bei den
 en einige Ausstellungsorte besucht werden.\nhttps://touren-termine.adfc.d
 e/radveranstaltung/91137-sudwestgefuhrte-radtour-fur-kunstinteressierte
DTEND:20230625T160000Z
DTSTAMP:20260420T082554Z
DTSTART:20230625T100000Z
LOCATION:Jahnstraße 8a\, 38118 Braunschweig
SEQUENCE:0
SUMMARY:Südwest-geführte RADTOUR für Kunstinteressierte
UID:2ec2fddc-4f92-4f62-a4ef-851ec1ac8298
URL:https://touren-termine.adfc.de/radveranstaltung/91137-sudwestgefuhrte-
 radtour-fur-kunstinteressierte
END:VEVENT
END:VCALENDAR
