BEGIN:VCALENDAR
PRODID:-//github.com/rianjs/ical.net//NONSGML ical.net 4.0//EN
VERSION:2.0
BEGIN:VEVENT
DESCRIPTION:Wochenendtour\nhttps://touren-termine.adfc.de/radveranstaltung
 /179864-wochenendtour-zum-dummer-see
DTEND:20260816T170000Z
DTSTAMP:20260421T100752Z
DTSTART:20260814T083000Z
LOCATION:Hotel Zur Alten Post\, Große Straße 36\, Lembruch\, 49459 Landkre
 is Diepholz
SEQUENCE:0
SUMMARY:Wochenendtour zum Dümmer See
UID:4edd499f-ddf3-4e96-bdb8-244908fe0cfa
URL:https://touren-termine.adfc.de/radveranstaltung/179864-wochenendtour-z
 um-dummer-see
END:VEVENT
END:VCALENDAR
