BEGIN:VCALENDAR
PRODID:-//github.com/rianjs/ical.net//NONSGML ical.net 4.0//EN
VERSION:2.0
BEGIN:VEVENT
DESCRIPTION:Jeden Montag findet morgens eine Radtour statt.\nhttps://toure
 n-termine.adfc.de/radveranstaltung/177327-montag-morgen-tour
DTEND:20251208T110000Z
DTSTAMP:20260423T201045Z
DTSTART:20251208T090000Z
LOCATION:In der Ahe 29\, 27356 Rotenburg
SEQUENCE:0
SUMMARY:Montag Morgen Tour
UID:53de5450-3313-4634-b580-86b39f431a53
URL:https://touren-termine.adfc.de/radveranstaltung/177327-montag-morgen-t
 our
END:VEVENT
END:VCALENDAR
