BEGIN:VCALENDAR
PRODID:-//github.com/rianjs/ical.net//NONSGML ical.net 4.0//EN
VERSION:2.0
BEGIN:VEVENT
DESCRIPTION:Kooperationsveranstaltung mit dem BUND Siegen-Wittgenstein\nht
 tps://touren-termine.adfc.de/radveranstaltung/151980-radtour-und-wanderun
 g-rund-um-plittershagen
DTEND:20250427T140000Z
DTSTAMP:20260423T031825Z
DTSTART:20250427T074500Z
LOCATION:Jakob-Scheiner-Platz\, 57072 Siegen
SEQUENCE:0
SUMMARY:Radtour und Wanderung rund um Plittershagen
UID:25b8ab4b-cfd8-4f44-b557-ba9c0d2b4676
URL:https://touren-termine.adfc.de/radveranstaltung/151980-radtour-und-wan
 derung-rund-um-plittershagen
END:VEVENT
END:VCALENDAR
