BEGIN:VCALENDAR
PRODID:-//github.com/rianjs/ical.net//NONSGML ical.net 4.0//EN
VERSION:2.0
BEGIN:VEVENT
DESCRIPTION:Auf direkten Weg nach Eschede mit anschließender Teilnahme an 
 der im Rahmen der Veranstaltung geplanten Genußradlertour (ca. 30 km) dur
 ch die Südheide.\nhttps://touren-termine.adfc.de/radveranstaltung/198184-
 zur-jubilaumsveranstaltung-eschede-erfahren
DTEND:20260830T150000Z
DTSTAMP:20260421T113447Z
DTSTART:20260830T063000Z
LOCATION:Herzogin-Eleonore-Allee Französischer Garten Am Teich\, 29221 Cel
 le
SEQUENCE:0
SUMMARY:Zur Jubiläumsveranstaltung "Eschede erfahren"
UID:6974fd2a-e200-442e-95bd-fc5a92d68f5b
URL:https://touren-termine.adfc.de/radveranstaltung/198184-zur-jubilaumsve
 ranstaltung-eschede-erfahren
END:VEVENT
END:VCALENDAR
