BEGIN:VCALENDAR
PRODID:-//github.com/rianjs/ical.net//NONSGML ical.net 4.0//EN
VERSION:2.0
BEGIN:VEVENT
DESCRIPTION:Abseits vom Trubel der Innenstadt vergessen wir für einen Aben
 d den Stress des Alltags und radeln eine Runde draußen in der Natur.\nhtt
 ps://touren-termine.adfc.de/radveranstaltung/164134-frauentour-gemeinsam-
 rein-in-den-feierabend
DTEND:20250506T183000Z
DTSTAMP:20260424T114626Z
DTSTART:20250506T163000Z
LOCATION:Am Schwanenplatz 10\, 70190 Stuttgart
SEQUENCE:0
SUMMARY:Frauentour: gemeinsam rein in den Feierabend!
UID:6a1caf4e-87f1-42b1-bf84-805ef90b5cef
URL:https://touren-termine.adfc.de/radveranstaltung/164134-frauentour-geme
 insam-rein-in-den-feierabend
END:VEVENT
END:VCALENDAR
