BEGIN:VCALENDAR
PRODID:-//github.com/rianjs/ical.net//NONSGML ical.net 4.0//EN
VERSION:2.0
BEGIN:VEVENT
DESCRIPTION:Jeden ersten Sonntag im Monat starten wir den Tag gemeinsam mi
 t einer schönen Radtour rund um Halver.\nhttps://touren-termine.adfc.de/r
 adveranstaltung/138516-sonntagstour-ins-grune
DTEND:20240901T103000Z
DTSTAMP:20260421T132024Z
DTSTART:20240901T080000Z
LOCATION:Mühlenstraße 2\, 58553 Halver
SEQUENCE:0
SUMMARY:Sonntagstour ins Grüne
UID:c5c5e1cc-2264-48ce-8dcc-9232026b975e
URL:https://touren-termine.adfc.de/radveranstaltung/138516-sonntagstour-in
 s-grune
END:VEVENT
END:VCALENDAR
