BEGIN:VCALENDAR
PRODID:-//github.com/rianjs/ical.net//NONSGML ical.net 4.0//EN
VERSION:2.0
BEGIN:VEVENT
DESCRIPTION:Feierabendtouren in die nähere Umgebung\, Distanz 20 - 30 km\,
  oft mit Einkehr.\nhttps://touren-termine.adfc.de/radveranstaltung/116340
 -gilchinger-feierabendtour
DTEND:20240823T180000Z
DTSTAMP:20260425T145838Z
DTSTART:20240823T150000Z
LOCATION:Marktplatz\, 82205 Gilching
SEQUENCE:0
SUMMARY:Gilchinger Feierabendtour
UID:a1a68715-12fc-4ab0-8da0-645a4c3c7023
URL:https://touren-termine.adfc.de/radveranstaltung/116340-gilchinger-feie
 rabendtour
END:VEVENT
END:VCALENDAR
