BEGIN:VCALENDAR
PRODID:-//github.com/rianjs/ical.net//NONSGML ical.net 4.0//EN
VERSION:2.0
BEGIN:VEVENT
DESCRIPTION:Über überwiegend grüne Wege geht es entlang von Berne\, Alter 
 Emscher\, Boye\, Kirchschemmsbach & Co.\nhttps://touren-termine.adfc.de/r
 adveranstaltung/150355-feierabendtour-zum-tag-der-currywurst
DTEND:20250904T190000Z
DTSTAMP:20260421T100935Z
DTSTART:20250904T150000Z
LOCATION:Essen (Innenstadt)\, Grüne Mitte (Eiscafé LaLuna)\, 45127 Essen
SEQUENCE:0
SUMMARY:Feierabendtour zum "Tag der Currywurst"
UID:ce625cb7-a9f2-458b-8d47-7bdc86953472
URL:https://touren-termine.adfc.de/radveranstaltung/150355-feierabendtour-
 zum-tag-der-currywurst
END:VEVENT
END:VCALENDAR
