BEGIN:VCALENDAR
PRODID:-//github.com/rianjs/ical.net//NONSGML ical.net 4.0//EN
VERSION:2.0
BEGIN:VEVENT
DESCRIPTION:Wir radeln durch das hügelige Extertal über Bremke\, Bösingfel
 d\, Hummerbruch\, Alverdissen nach Sonneborn. Von dort radeln wir auf der
  alten Bahntrasse nach Aerzen. Von dort geht es über Königsförde.\nhttps:
 //touren-termine.adfc.de/radveranstaltung/178792-extertal-und-alte-bahntr
 asse
DTEND:20260501T160000Z
DTSTAMP:20260420T205921Z
DTSTART:20260501T080000Z
LOCATION:Nachtwächter \, Marktplatz 6\, 31737 Rinteln
SEQUENCE:0
SUMMARY:Extertal und alte Bahntrasse
UID:d7e59008-d670-4b41-b187-d266e4f324ea
URL:https://touren-termine.adfc.de/radveranstaltung/178792-extertal-und-al
 te-bahntrasse
END:VEVENT
END:VCALENDAR
