BEGIN:VCALENDAR
PRODID:-//github.com/rianjs/ical.net//NONSGML ical.net 4.0//EN
VERSION:2.0
BEGIN:VEVENT
DESCRIPTION:Große Herbsttour von Kreuztal durch vier Täler nach Jagdhaus u
 nd und über die Höhen zurück. Möglichst viel Asphalt. Knapp 100 km und 10
 00 Hm. Anmeldung erforderlich\, da Teilnehmerzahl begrenzt.\nhttps://tour
 en-termine.adfc.de/radveranstaltung/140955-herbsttour-nach-jagdhaus-pedel
 ec
DTEND:20241016T160000Z
DTSTAMP:20260422T234415Z
DTSTART:20241016T090000Z
LOCATION:Marburgerstraße\, Roter Platz\, 57223 Kreuztal
SEQUENCE:0
SUMMARY:Herbst-Tour nach Jagdhaus (Pedelec)
UID:a9b3ac48-6ca8-4b10-9811-4d66c3044aa2
URL:https://touren-termine.adfc.de/radveranstaltung/140955-herbsttour-nach
 -jagdhaus-pedelec
END:VEVENT
END:VCALENDAR
