BEGIN:VCALENDAR
PRODID:-//github.com/rianjs/ical.net//NONSGML ical.net 4.0//EN
VERSION:2.0
BEGIN:VEVENT
DESCRIPTION:Bei dieser Tour verbinden wir Fahrradfahren mit dem Kennenlern
 en von Bio-Höfen/-Läden in der Uckermark. Wir durchfahren Natur pur entla
 ng einladender Seen.\nhttps://touren-termine.adfc.de/radveranstaltung/117
 966-bioradtour-uckermark-weite-und-ruhe
DTEND:20240510T160000Z
DTSTAMP:20260424T144103Z
DTSTART:20240510T070000Z
LOCATION:Bhf. Berlin Südkreuz\, Ringbahnsteig\, 12101 Berlin
SEQUENCE:0
SUMMARY:Bio-Radtour Uckermark: Weite und Ruhe
UID:654c2db5-8a9a-4a2e-9a8f-3ef3b68de1a1
URL:https://touren-termine.adfc.de/radveranstaltung/117966-bioradtour-ucke
 rmark-weite-und-ruhe
END:VEVENT
END:VCALENDAR
