BEGIN:VCALENDAR
PRODID:-//github.com/rianjs/ical.net//NONSGML ical.net 4.0//EN
VERSION:2.0
BEGIN:VEVENT
DESCRIPTION:Bahnanreise nach Marburg\, wo die Tour um 9.45 am Hauptbahnhof
  startet. Verlauf: Über Gisselberg zum Frauenberg\, durch den Ebsdorfergr
 und über Amöneburg\, Stadttallendorf und Neustadt zurück nachTreysa.\nhtt
 ps://touren-termine.adfc.de/radveranstaltung/159445-marburgtreysa
DTEND;VALUE=DATE:20250622
DTSTAMP:20260421T100910Z
DTSTART;VALUE=DATE:20250622
LOCATION:Bahnhof Treysa\, Fahrkartenautomat\, Wieragrundstraße\, 34613 Tre
 ysa
SEQUENCE:0
SUMMARY:Marburg–Treysa
UID:ab7bbe11-f5aa-4ead-a020-5de8abaa1559
URL:https://touren-termine.adfc.de/radveranstaltung/159445-marburgtreysa
END:VEVENT
END:VCALENDAR
