BEGIN:VCALENDAR
PRODID:-//github.com/rianjs/ical.net//NONSGML ical.net 4.0//EN
VERSION:2.0
BEGIN:VEVENT
DESCRIPTION:Beim heutigen Radlertreff kommen wir mit Herrn Daniel Flemm - 
 designierter OB Kandidat -  der CDU ins Gespräch.\nhttps://touren-termine
 .adfc.de/radveranstaltung/165733-radlertreff-solingen-august-mit-daniel-f
 lemm
DTEND:20250826T190000Z
DTSTAMP:20260421T172836Z
DTSTART:20250826T173000Z
LOCATION:Locher Straße 17\, 42719 Solingen
SEQUENCE:0
SUMMARY:Radlertreff Solingen - August mit Daniel Flemm
UID:1c5f8d21-026a-4dc7-bb7f-f989efce490a
URL:https://touren-termine.adfc.de/radveranstaltung/165733-radlertreff-sol
 ingen-august-mit-daniel-flemm
END:VEVENT
END:VCALENDAR
