BEGIN:VCALENDAR
PRODID:-//github.com/rianjs/ical.net//NONSGML ical.net 4.0//EN
VERSION:2.0
BEGIN:VEVENT
DESCRIPTION:Voll! Neuer Termin! Tagestour "Kempter Waldrunde mit Duracher 
 Wasserweg und vielen Sehenswürdigkeiten"\nStart am Hbf. Kempten\, Anmeldu
 ng bis Do 28.08.2025\nhttps://touren-termine.adfc.de/radveranstaltung/148
 728-voll-neuer-termin-kempter-waldrunde-uvm
DTEND;VALUE=DATE:20250830
DTSTAMP:20260425T153614Z
DTSTART;VALUE=DATE:20250830
LOCATION:Parkplatz Eicher Straße\, 87435 Kempten (Allgäu)
SEQUENCE:0
SUMMARY:Voll! Neuer Termin! "Kempter Waldrunde u.v.m."
UID:d6f4fcc7-bb8f-4c95-90b5-3be25239383a
URL:https://touren-termine.adfc.de/radveranstaltung/148728-voll-neuer-term
 in-kempter-waldrunde-uvm
END:VEVENT
END:VCALENDAR
