BEGIN:VCALENDAR
PRODID:-//github.com/rianjs/ical.net//NONSGML ical.net 4.0//EN
VERSION:2.0
BEGIN:VEVENT
DESCRIPTION:Fr.\, 19.06.: Feierabendtour in den Norden  und Westen Langenh
 agens\; Abfahren von GLieM-Punkten im Norden Westen  der Stadt mit fachku
 ndiger Leitung und Erklärungen zu den angefahrenen Punkten\nhttps://toure
 n-termine.adfc.de/radveranstaltung/198267-gliemfeierabend-tour-in-den-nor
 denwesten-von-lgh
DTEND:20260619T180000Z
DTSTAMP:20260424T113205Z
DTSTART:20260619T150000Z
LOCATION:Zwischen Rathaus und Post\, Marktplatz\, 30853 Langenhagen
SEQUENCE:0
SUMMARY:GLieM-Feierabend Tour in den Norden/Westen von Lgh
UID:ece4638d-dc4c-450c-8019-c4507fbfda6f
URL:https://touren-termine.adfc.de/radveranstaltung/198267-gliemfeierabend
 -tour-in-den-nordenwesten-von-lgh
END:VEVENT
END:VCALENDAR
