BEGIN:VCALENDAR
PRODID:-//github.com/rianjs/ical.net//NONSGML ical.net 4.0//EN
VERSION:2.0
BEGIN:VEVENT
DESCRIPTION:Jeden Montag findet morgens eine Radtour statt.\nhttps://toure
 n-termine.adfc.de/radveranstaltung/198641-montag-morgen-tour
DTEND:20260427T100000Z
DTSTAMP:20260423T200817Z
DTSTART:20260427T080000Z
LOCATION:In der Ahe 29\, 27356 Rotenburg
SEQUENCE:0
SUMMARY:Montag Morgen Tour
UID:ce90475d-b0f8-4a9e-be27-f4b0a8669d98
URL:https://touren-termine.adfc.de/radveranstaltung/198641-montag-morgen-t
 our
END:VEVENT
END:VCALENDAR
