BEGIN:VCALENDAR
PRODID:-//github.com/rianjs/ical.net//NONSGML ical.net 4.0//EN
VERSION:2.0
BEGIN:VEVENT
DESCRIPTION:Umrundung des Otto-Maigler-Sees in Hürth\nhttps://touren-termi
 ne.adfc.de/radveranstaltung/127799-ottomaiglersee-in-hurth-adfc-leverkuse
 n
DTEND:20240808T160000Z
DTSTAMP:20260421T121445Z
DTSTART:20240808T070000Z
LOCATION:Tannenbergstraße\, unter der Stelzenautobahn\, 51373 Leverkusen
SEQUENCE:0
SUMMARY:Otto-Maigler-See in Hürth ADFC Leverkusen
UID:eb75625b-fd90-4b1a-9f17-1afa35a76212
URL:https://touren-termine.adfc.de/radveranstaltung/127799-ottomaiglersee-
 in-hurth-adfc-leverkusen
END:VEVENT
END:VCALENDAR
