BEGIN:VCALENDAR
PRODID:-//github.com/rianjs/ical.net//NONSGML ical.net 4.0//EN
VERSION:2.0
BEGIN:VEVENT
DESCRIPTION:Tagestour\nhttps://touren-termine.adfc.de/radveranstaltung/179
 857-tagestour-3meereweg
DTEND:20260719T160000Z
DTSTAMP:20260421T140309Z
DTSTART:20260719T080000Z
LOCATION:Hinterer Parkplatz Fa. Mideva\, Friesenstraße 145\, Ihlow-Riepe\,
 \, 26632 Landkreis Aurich
SEQUENCE:0
SUMMARY:Tagestour 3-Meere-Weg
UID:93ce1c37-9005-4a5b-b03e-ad79b9404d6c
URL:https://touren-termine.adfc.de/radveranstaltung/179857-tagestour-3meer
 eweg
END:VEVENT
END:VCALENDAR
