BEGIN:VCALENDAR
PRODID:-//github.com/rianjs/ical.net//NONSGML ical.net 4.0//EN
VERSION:2.0
BEGIN:VEVENT
DESCRIPTION:Ab Strausberg-Nord durch bezaubernde hügelige Landschaft zum K
 neippkurort Buckow. Entlang verträumter Seen zu Biohöfen. Nach zwei Badep
 ausen zum S-Bhf. Hegermühle - bitte um Anmeldung.\nhttps://touren-termine
 .adfc.de/radveranstaltung/168469-bioradtour-markische-schweiz
DTEND:20250706T160000Z
DTSTAMP:20260424T202301Z
DTSTART:20250706T072000Z
LOCATION:Bhf. Berlin-Ostkreuz\,  Ringbahnsteig\, 10245 Berlin
SEQUENCE:0
SUMMARY:Bio-Radtour - Märkische Schweiz
UID:060a53b0-b466-417e-b5a4-bdb0290af449
URL:https://touren-termine.adfc.de/radveranstaltung/168469-bioradtour-mark
 ische-schweiz
END:VEVENT
END:VCALENDAR
