BEGIN:VCALENDAR
PRODID:-//github.com/rianjs/ical.net//NONSGML ical.net 4.0//EN
VERSION:2.0
BEGIN:VEVENT
DESCRIPTION:Wir feiern zusammen mit Euch ein Sommerfest.\nhttps://touren-t
 ermine.adfc.de/radveranstaltung/168048-sommerfest-in-der-freizeitanlage-i
 n-aufderhohe
DTEND:20250629T170000Z
DTSTAMP:20260421T172810Z
DTSTART:20250629T130000Z
LOCATION:Josefstal 16\, 42699 Solingen
SEQUENCE:0
SUMMARY:Sommerfest in der Freizeitanlage in Aufderhöhe
UID:cd8188a8-5743-4844-ae5f-8dab6cc041c9
URL:https://touren-termine.adfc.de/radveranstaltung/168048-sommerfest-in-d
 er-freizeitanlage-in-aufderhohe
END:VEVENT
END:VCALENDAR
