BEGIN:VCALENDAR
PRODID:-//github.com/rianjs/ical.net//NONSGML ical.net 4.0//EN
VERSION:2.0
BEGIN:VEVENT
DESCRIPTION:Wir stricken uns die Fahrradstadt - Mobilität ist nicht männli
 ch! Der Blick von FLINTA auf die Verkehrswende ist in der Stadtplanung un
 terrepräsentiert. Wir wollen das ändern!\nhttps://touren-termine.adfc.de/
 radveranstaltung/144540-cyclistaclub
DTEND:20250117T201500Z
DTSTAMP:20260420T231137Z
DTSTART:20250117T180000Z
LOCATION:Geschäftsstelle ADFC Hamburg\, Koppel 34-36\, 20099 Hamburg\, St.
  Georg
SEQUENCE:0
SUMMARY:Cyclista*Club
UID:88a025e8-aa2e-464d-bcc4-f31188e320fe
URL:https://touren-termine.adfc.de/radveranstaltung/144540-cyclistaclub
END:VEVENT
END:VCALENDAR
