BEGIN:VCALENDAR
PRODID:-//github.com/rianjs/ical.net//NONSGML ical.net 4.0//EN
VERSION:2.0
BEGIN:VEVENT
DESCRIPTION:Unsere Geschäftsstelle ist für alle Anliegen und offenen Frage
 n geöffnet.\nhttps://touren-termine.adfc.de/radveranstaltung/147960-offnu
 ngszeit-unserer-geschaftsstelle
DTEND:20250314T170000Z
DTSTAMP:20260421T121348Z
DTSTART:20250314T150000Z
LOCATION:Essen (Innenstadt)\, ADFC Essen Geschäftsstelle\, Rottstraße 5\, 
 45127 Essen
SEQUENCE:0
SUMMARY:Öffnungszeit unserer Geschäftsstelle
UID:ab1a0203-2c66-43e5-8c7a-18c7672b1889
URL:https://touren-termine.adfc.de/radveranstaltung/147960-offnungszeit-un
 serer-geschaftsstelle
END:VEVENT
END:VCALENDAR
