BEGIN:VCALENDAR
PRODID:-//github.com/rianjs/ical.net//NONSGML ical.net 4.0//EN
VERSION:2.0
BEGIN:VEVENT
DESCRIPTION:Jeden Montag findet morgens eine Radtour statt.\nhttps://toure
 n-termine.adfc.de/radveranstaltung/150305-montag-morgen-tour
DTEND:20250203T110000Z
DTSTAMP:20260423T201452Z
DTSTART:20250203T090000Z
LOCATION:In der Ahe 29\, 27356 Rotenburg
SEQUENCE:0
SUMMARY:Montag Morgen Tour
UID:6abf7120-e1e8-4863-9493-2cde664aaf5b
URL:https://touren-termine.adfc.de/radveranstaltung/150305-montag-morgen-t
 our
END:VEVENT
END:VCALENDAR
