BEGIN:VCALENDAR
PRODID:-//github.com/rianjs/ical.net//NONSGML ical.net 4.0//EN
VERSION:2.0
BEGIN:VEVENT
DESCRIPTION:Treysa - Schlierbach - Bischhausen - Niederurf - Bad Zwesten .
  Rückfahrt führt durch den Kellerwald : Bergfreiheit - Schönstein - Densb
 erg - Jesberg - Hundshausen - Elnrode - Treysa\nhttps://touren-termine.ad
 fc.de/radveranstaltung/159448-rundtour-treysabad-zwesten
DTEND:20250824T130000Z
DTSTAMP:20260421T102546Z
DTSTART:20250824T080000Z
LOCATION:Treysa Haaßehügel Infotafel Bahnradweg\, Ascheröder Straße 1 (neb
 en Gaststätte 'Am Brauhaus')\, 34613 Treysa
SEQUENCE:0
SUMMARY:Rundtour Treysa–Bad Zwesten
UID:9ee942ae-b6aa-4998-b2ed-50d0aba4cc5b
URL:https://touren-termine.adfc.de/radveranstaltung/159448-rundtour-treysa
 bad-zwesten
END:VEVENT
END:VCALENDAR
