BEGIN:VCALENDAR
PRODID:-//github.com/rianjs/ical.net//NONSGML ical.net 4.0//EN
VERSION:2.0
BEGIN:VEVENT
DESCRIPTION:Endeckungstour in die Schorfheide mit Einkehr „Zur kleinen Mol
 dau“\n\n\nAuf in die Schorfheide\nhttps://touren-termine.adfc.de/radveran
 staltung/198599-tour-in-die-schorfheide-und-zur-kleinen-moldau
DTEND:20260517T140000Z
DTSTAMP:20260425T231622Z
DTSTART:20260517T080000Z
LOCATION:Bahnhofsplatz\, 16515 Oranienburg
SEQUENCE:0
SUMMARY:Tour in die Schorfheide und „Zur kleinen Moldau“
UID:b5caf74f-9470-4156-9909-36708b4a71b0
URL:https://touren-termine.adfc.de/radveranstaltung/198599-tour-in-die-sch
 orfheide-und-zur-kleinen-moldau
END:VEVENT
END:VCALENDAR
