BEGIN:VCALENDAR
PRODID:-//github.com/rianjs/ical.net//NONSGML ical.net 4.0//EN
VERSION:2.0
BEGIN:VEVENT
DESCRIPTION:Wöchentliche freitags Radtouren der ADFC Ortsgruppe Hattingen\
 nhttps://touren-termine.adfc.de/radveranstaltung/190037-auf-ins-wochenend
 e
DTEND:20261002T160000Z
DTSTAMP:20260421T210022Z
DTSTART:20261002T130000Z
LOCATION:Parkplatz Holschentor\, Talstraße 8\, 45525 Hattingen
SEQUENCE:0
SUMMARY:Auf ins Wochenende
UID:f84db8ff-e60d-4950-99f5-4a18fce8768e
URL:https://touren-termine.adfc.de/radveranstaltung/190037-auf-ins-wochene
 nde
END:VEVENT
END:VCALENDAR
