BEGIN:VCALENDAR
PRODID:-//github.com/rianjs/ical.net//NONSGML ical.net 4.0//EN
VERSION:2.0
BEGIN:VEVENT
DESCRIPTION:Gemeinsam fahren wir von der Wasserwelt in die Gegend um Meine
  - Vordorf und schauen uns die Tulpenfelder an.\nhttps://touren-termine.a
 dfc.de/radveranstaltung/191886-tulpentour
DTEND:20260426T140000Z
DTSTAMP:20260423T015014Z
DTSTART:20260426T080000Z
LOCATION:Wasserwelt Hamburger Straße\, 38114 Braunschweig
SEQUENCE:0
SUMMARY:Tulpentour
UID:aeac8d78-a732-4e8a-90a6-f3c789007c3f
URL:https://touren-termine.adfc.de/radveranstaltung/191886-tulpentour
END:VEVENT
END:VCALENDAR
