BEGIN:VCALENDAR
PRODID:-//github.com/rianjs/ical.net//NONSGML ical.net 4.0//EN
VERSION:2.0
BEGIN:VEVENT
DESCRIPTION:Drei-Tage-Tour "Zum Mittelpunkt Niedersachsens" in der Grafsch
 aft Hoya\nhttps://touren-termine.adfc.de/radveranstaltung/106789-zum-mitt
 elpunkt-niedersachsens
DTEND:20230917T160000Z
DTSTAMP:20260423T202613Z
DTSTART:20230915T070000Z
LOCATION:Bahnhofstraße 1\, 27356 Rotenburg
SEQUENCE:0
SUMMARY:Zum Mittelpunkt Niedersachsens
UID:22763001-653f-4ea1-8fa4-eb721e309e16
URL:https://touren-termine.adfc.de/radveranstaltung/106789-zum-mittelpunkt
 -niedersachsens
END:VEVENT
END:VCALENDAR
