BEGIN:VCALENDAR
PRODID:-//github.com/rianjs/ical.net//NONSGML ical.net 4.0//EN
VERSION:2.0
BEGIN:VEVENT
DESCRIPTION:Runde von Neukölln zum Rangsdorfer See\nhttps://touren-termine
 .adfc.de/radveranstaltung/185403--rangsdorfer-see
DTEND:20260621T170000Z
DTSTAMP:20260424T190301Z
DTSTART:20260621T090000Z
LOCATION:U-Bhf. Rathaus Neukölln\, Rathausvorplatz\, 12043 Berlin
SEQUENCE:0
SUMMARY: Rangsdorfer See
UID:16148f92-9907-46e8-9eba-8512b8811901
URL:https://touren-termine.adfc.de/radveranstaltung/185403--rangsdorfer-see
END:VEVENT
END:VCALENDAR
