BEGIN:VCALENDAR
PRODID:-//github.com/rianjs/ical.net//NONSGML ical.net 4.0//EN
VERSION:2.0
BEGIN:VEVENT
DESCRIPTION:Wir stricken uns die Fahrradstadt - Mobilität ist nicht männli
 ch! Der Blick von FLINTA auf die Verkehrswende ist in der Stadtplanung un
 terrepräsentiert. Wir wollen das ändern!\nhttps://touren-termine.adfc.de/
 radveranstaltung/176644-cyclistaclub
DTEND:20251216T200000Z
DTSTAMP:20260420T230627Z
DTSTART:20251216T180000Z
LOCATION:Geschäftsstelle ADFC Hamburg\, Koppel 34-36\, 20099 Hamburg\, St.
  Georg
SEQUENCE:0
SUMMARY:Cyclista*Club
UID:58691755-c6fd-4757-80d9-91e4d30cb433
URL:https://touren-termine.adfc.de/radveranstaltung/176644-cyclistaclub
END:VEVENT
END:VCALENDAR
