BEGIN:VCALENDAR
PRODID:-//github.com/rianjs/ical.net//NONSGML ical.net 4.0//EN
VERSION:2.0
BEGIN:VEVENT
DESCRIPTION:lockere Radrunde\; Tour wird kurzfristig festgelegt\nhttps://t
 ouren-termine.adfc.de/radveranstaltung/125184-fat
DTEND:20240904T190000Z
DTSTAMP:20260421T100722Z
DTSTART:20240904T160000Z
LOCATION:Bike & Ride Fahrradparkhaus\, 85221 Dachau
SEQUENCE:0
SUMMARY:FAT
UID:96041486-4e24-4be7-a4c2-bfa8a8cc6206
URL:https://touren-termine.adfc.de/radveranstaltung/125184-fat
END:VEVENT
END:VCALENDAR
