BEGIN:VCALENDAR
PRODID:-//github.com/rianjs/ical.net//NONSGML ical.net 4.0//EN
VERSION:2.0
BEGIN:VEVENT
DESCRIPTION:Lockere Feierabendtour nach Mariabrunn\nhttps://touren-termine
 .adfc.de/radveranstaltung/196984-besuch-des-biergartens-in-mariabrunn-01
DTEND:20260625T190000Z
DTSTAMP:20260421T100722Z
DTSTART:20260625T160000Z
LOCATION:Bike & Ride Fahrradparkhaus\, 85221 Dachau
SEQUENCE:0
SUMMARY:Besuch des Biergartens in Mariabrunn 01
UID:56a0cb9c-0b30-4c2d-a5a2-7fb90ac2ba08
URL:https://touren-termine.adfc.de/radveranstaltung/196984-besuch-des-bier
 gartens-in-mariabrunn-01
END:VEVENT
END:VCALENDAR
