BEGIN:VCALENDAR
PRODID:-//github.com/rianjs/ical.net//NONSGML ical.net 4.0//EN
VERSION:2.0
BEGIN:VEVENT
DESCRIPTION:Dienstags & Donnerstags zwischen 18:00 und 20:00 Uhr kann dort
  jeder\, sein Fahrrad eigenverantwortlich selbst reparieren - wenn nötig 
 unter Anleitung oder Mithilfe unsere Werkstattteams\nhttps://touren-termi
 ne.adfc.de/radveranstaltung/115620-selbsthilfewerkstatt-ist-geoffnet
DTEND:20241107T190000Z
DTSTAMP:20260424T151147Z
DTSTART:20241107T170000Z
LOCATION:ADFC-Selbsthilfewerkstatt\, Weinweg 2\, 93049 Regensburg
SEQUENCE:0
SUMMARY:Selbsthilfewerkstatt ist geöffnet
UID:8e501355-e527-4e25-9c5e-5dd1e32aa913
URL:https://touren-termine.adfc.de/radveranstaltung/115620-selbsthilfewerk
 statt-ist-geoffnet
END:VEVENT
END:VCALENDAR
