BEGIN:VCALENDAR
PRODID:-//github.com/rianjs/ical.net//NONSGML ical.net 4.0//EN
VERSION:2.0
BEGIN:VEVENT
DESCRIPTION:Wir radeln eine gemütliche Runde zu verschiedenen Zielen in de
 r Stadt und genießen dabei Hamburg-Flair\, Natur und Adfc-Geselligkeit. \
 nNicht bei Regenwetter.\nhttps://touren-termine.adfc.de/radveranstaltung/
 129424-wandsbeker-feierabendcruise
DTEND:20240523T183000Z
DTSTAMP:20260420T230822Z
DTSTART:20240523T163000Z
LOCATION:Liegewiese im Eichtalpark mit ovaler Skulptur\, 22041 Hamburg\, W
 andsbek
SEQUENCE:0
SUMMARY:Wandsbeker Feierabendcruise
UID:78c51cd2-9350-491b-b3b5-46d6d66d43e5
URL:https://touren-termine.adfc.de/radveranstaltung/129424-wandsbeker-feie
 rabendcruise
END:VEVENT
END:VCALENDAR
