BEGIN:VCALENDAR
PRODID:-//github.com/rianjs/ical.net//NONSGML ical.net 4.0//EN
VERSION:2.0
BEGIN:VEVENT
DESCRIPTION:°\nhttps://touren-termine.adfc.de/radveranstaltung/184443-pots
 damer-seentour
DTEND:20260802T180000Z
DTSTAMP:20260421T100958Z
DTSTART:20260802T053000Z
LOCATION:Kölner Platz\, 39104 Magdeburg
SEQUENCE:0
SUMMARY:Potsdamer Seentour
UID:6d4aecce-6db3-4661-91fe-45cd212bf926
URL:https://touren-termine.adfc.de/radveranstaltung/184443-potsdamer-seent
 our
END:VEVENT
END:VCALENDAR
