BEGIN:VCALENDAR
PRODID:-//github.com/rianjs/ical.net//NONSGML ical.net 4.0//EN
VERSION:2.0
BEGIN:VEVENT
DESCRIPTION:Fahrrad-Codierung beim Wäschenbeurer Pfingstmarkt\nhttps://tou
 ren-termine.adfc.de/radveranstaltung/131519-fahrradcodierung-beim-waschen
 beurer-pfingstmarkt
DTEND:20240520T120000Z
DTSTAMP:20260426T000025Z
DTSTART:20240520T080000Z
LOCATION:Bahnhofstraße\, 73116 Landkreis Göppingen
SEQUENCE:0
SUMMARY:Fahrrad-Codierung beim Wäschenbeurer Pfingstmarkt
UID:573ec9eb-f2b4-4218-ada0-b793b50bbc3f
URL:https://touren-termine.adfc.de/radveranstaltung/131519-fahrradcodierun
 g-beim-waschenbeurer-pfingstmarkt
END:VEVENT
END:VCALENDAR
