BEGIN:VCALENDAR
PRODID:-//github.com/rianjs/ical.net//NONSGML ical.net 4.0//EN
VERSION:2.0
BEGIN:VEVENT
DESCRIPTION:5-Tage Radtour teilweise entlang Ciclovia del Sole (EV7) und A
 lpe-Adria-Radweg\, je Tag: 475 hm / 635 tm.\nhttps://touren-termine.adfc.
 de/radveranstaltung/184391--von-eisack-zur-salzach-fortezza-bis-salzburg
DTEND:20260925T180000Z
DTSTAMP:20260419T191945Z
DTSTART:20260921T030000Z
LOCATION:Bahnhofstraße\, 87600 Kaufbeuren
SEQUENCE:0
SUMMARY: Von Eisack zur Salzach - Fortezza bis Salzburg
UID:fcd0dd14-2009-4557-9c61-913b8c0d25ec
URL:https://touren-termine.adfc.de/radveranstaltung/184391--von-eisack-zur
 -salzach-fortezza-bis-salzburg
END:VEVENT
END:VCALENDAR
