BEGIN:VCALENDAR
PRODID:-//github.com/rianjs/ical.net//NONSGML ical.net 4.0//EN
VERSION:2.0
BEGIN:VEVENT
DESCRIPTION:Abseits vom Trubel der Innenstadt vergessen wir für einen Aben
 d den Stress des Alltags und radeln eine Runde draußen in der Natur.\nhtt
 ps://touren-termine.adfc.de/radveranstaltung/157502-frauentour-gemeinsam-
 rein-in-den-feierabend
DTEND:20250409T183000Z
DTSTAMP:20260424T115819Z
DTSTART:20250409T160000Z
LOCATION:Bahnhof Vaihingen\, 70563 Stuttgart
SEQUENCE:0
SUMMARY:Frauentour: gemeinsam rein in den Feierabend!
UID:fc8d51e0-ca14-4d84-aa72-022a9049140a
URL:https://touren-termine.adfc.de/radveranstaltung/157502-frauentour-geme
 insam-rein-in-den-feierabend
END:VEVENT
END:VCALENDAR
