BEGIN:VCALENDAR
PRODID:-//github.com/rianjs/ical.net//NONSGML ical.net 4.0//EN
VERSION:2.0
BEGIN:VEVENT
DESCRIPTION:Von S-Bhf.  Blankenburg geht es über Buchholz\, Arkenberge\, z
 um Köppchensee\, Botanische Anlage über den Nordgraben zur S-Bahn Pankow-
 Heinersdorf oder Einkehr im Lindengarten.\nhttps://touren-termine.adfc.de
 /radveranstaltung/171511-kieztour-pankow
DTEND:20250907T160000Z
DTSTAMP:20260424T203200Z
DTSTART:20250907T120000Z
LOCATION:S-Bhf Blankenburg\, 13129 Berlin
SEQUENCE:0
SUMMARY:Kieztour Pankow
UID:971e9a04-8f04-4921-aff0-b6e3dcd66295
URL:https://touren-termine.adfc.de/radveranstaltung/171511-kieztour-pankow
END:VEVENT
END:VCALENDAR
