BEGIN:VCALENDAR
PRODID:-//github.com/rianjs/ical.net//NONSGML ical.net 4.0//EN
VERSION:2.0
BEGIN:VEVENT
DESCRIPTION:Angebot der Kaki-Radler von Kaltenkirchen zum Himmelmoor mir E
 inkehr\nhttps://touren-termine.adfc.de/radveranstaltung/198598-kaltenkirc
 hen-himmelmoor
DTEND:20260426T140000Z
DTSTAMP:20260421T072940Z
DTSTART:20260426T080000Z
LOCATION:Am Bahnhof\, 24568 Kaltenkirchen
SEQUENCE:0
SUMMARY:Kaltenkirchen - Himmelmoor
UID:c1359cf8-5a74-4432-b52b-5c36a7604019
URL:https://touren-termine.adfc.de/radveranstaltung/198598-kaltenkirchen-h
 immelmoor
END:VEVENT
END:VCALENDAR
