BEGIN:VCALENDAR
PRODID:-//github.com/rianjs/ical.net//NONSGML ical.net 4.0//EN
VERSION:2.0
BEGIN:VEVENT
DESCRIPTION:Winterprogramm in Gauting: Radltouren bei trockenem und schöne
 m Wetter von 11 bis 15 Uhr mit mittäglicher Einkehr.\nHeute die 4. Tour 2
 024: Zum Isarhochufer und in das Restaurant 'Poseidon'\nhttps://touren-te
 rmine.adfc.de/radveranstaltung/129321-eisbartour-in-gauting
DTEND:20240326T140000Z
DTSTAMP:20260425T145811Z
DTSTART:20240326T100000Z
LOCATION:Rathaus\, Bahnhofstraße 7\, 82131 Gauting
SEQUENCE:0
SUMMARY:Eisbär-Tour in Gauting
UID:d0b454a5-e445-464c-8924-139dc7d07a4d
URL:https://touren-termine.adfc.de/radveranstaltung/129321-eisbartour-in-g
 auting
END:VEVENT
END:VCALENDAR
