BEGIN:VCALENDAR
PRODID:-//github.com/rianjs/ical.net//NONSGML ical.net 4.0//EN
VERSION:2.0
BEGIN:VEVENT
DESCRIPTION:7. Demo für sicheren Verkehr auf der Marienfelder Allee. Wir f
 ordern einen Radweg und Flächengerechtigkeit für alle Verkehrsteilnehmer:
 innen. Schluss mit der Bevorzugung des motorisierten Verkehrs!\nhttps://t
 ouren-termine.adfc.de/radveranstaltung/171352-demo-fur-sicheren-verkehr-i
 n-marienfelde
DTEND:20250922T173000Z
DTSTAMP:20260424T050245Z
DTSTART:20250922T160000Z
LOCATION:Marienfelder Allee 107/109\, vor der Bibliothek Marienfelde\, 122
 79 Berlin
SEQUENCE:0
SUMMARY:Demo für sicheren Verkehr in Marienfelde
UID:0d24b74b-93b7-4cbe-ae8f-84f1ecf4a246
URL:https://touren-termine.adfc.de/radveranstaltung/171352-demo-fur-sicher
 en-verkehr-in-marienfelde
END:VEVENT
END:VCALENDAR
