BEGIN:VCALENDAR
PRODID:-//github.com/rianjs/ical.net//NONSGML ical.net 4.0//EN
VERSION:2.0
BEGIN:VEVENT
DESCRIPTION:Offener Radelstammtisch der ADFC-Ortsgruppe Bad Berleburg\nhtt
 ps://touren-termine.adfc.de/radveranstaltung/159011-radelstammtisch-bad-b
 erleburg
DTEND:20250527T193000Z
DTSTAMP:20260423T030749Z
DTSTART:20250527T170000Z
LOCATION:Gasthof Klingelbach\, Am Sengelsberg 20\, 57319 Bad Berleburg
SEQUENCE:0
SUMMARY:Radelstammtisch Bad Berleburg
UID:45da0a6a-2e5e-43df-ab93-f8ade24aadbe
URL:https://touren-termine.adfc.de/radveranstaltung/159011-radelstammtisch
 -bad-berleburg
END:VEVENT
END:VCALENDAR
