BEGIN:VCALENDAR
PRODID:-//github.com/rianjs/ical.net//NONSGML ical.net 4.0//EN
VERSION:2.0
BEGIN:VEVENT
DESCRIPTION:Rauf aufs Rad für eine Spritztour in die Umgebung von Gauting!
 \nWöchentlich wechselnd naturkundliche Touren und Cappuccino-Touren.\nhtt
 ps://touren-termine.adfc.de/radveranstaltung/188106-wochentliche-nachmitt
 agstour-in-gauting
DTEND:20260630T150000Z
DTSTAMP:20260425T150615Z
DTSTART:20260630T120000Z
LOCATION:Rathaus\, Bahnhofstraße 7\, 82131 Gauting
SEQUENCE:0
SUMMARY:Wöchentliche Nachmittagstour in Gauting
UID:de64a1f3-8354-43bd-a3d0-4c5fea93063b
URL:https://touren-termine.adfc.de/radveranstaltung/188106-wochentliche-na
 chmittagstour-in-gauting
END:VEVENT
END:VCALENDAR
