BEGIN:VCALENDAR
PRODID:-//github.com/rianjs/ical.net//NONSGML ical.net 4.0//EN
VERSION:2.0
BEGIN:VEVENT
DESCRIPTION:In  diesem Kurs wird gezeigt\, wie kleinere Mängel selbst beho
 ben und größere Reparaturen vermieden werden können.\nEigenes Fahrrad mit
 bringen: mit und ohne E-Antrieb. AUSGEBUCHT\nhttps://touren-termine.adfc.
 de/radveranstaltung/117928-pannenkurs-basicreparaturkurs-2-in-kf-ausgebuc
 ht
DTEND:20240224T170000Z
DTSTAMP:20260419T155606Z
DTSTART:20240224T130000Z
LOCATION:Füssener Straße 10\, 87600 Kaufbeuren
SEQUENCE:0
SUMMARY:Pannenkurs Basic-Reparaturkurs 2 in KF\, ausgebucht
UID:ef04837c-3783-4559-ad4e-2240b7c68d94
URL:https://touren-termine.adfc.de/radveranstaltung/117928-pannenkurs-basi
 creparaturkurs-2-in-kf-ausgebucht
END:VEVENT
END:VCALENDAR
